BEGIN:VCALENDAR
VERSION:2.0
PRODID:-//wp-events-plugin.com//7.2.3.1//EN
TZID:America/New_York
X-WR-TIMEZONE:America/New_York
BEGIN:VEVENT
UID:153@uccn.org
DTSTART;TZID=America/New_York:20230924T110000
DTEND;TZID=America/New_York:20230927T180000
DTSTAMP:20230926T011124Z
URL:https://www.uccn.org/event/shelter-exhibition/
SUMMARY:"Shelter" Exhibition
DESCRIPTION:\n\n\n\nLeaf Of Hope Foundation is proudly hosting the "Shelter
 " exhibition at the Pellas Gellary on September 24-27th.\n\nLeaf Of Hope F
 oundation and the World charity organization will debut in Boston presenti
 ng emerging artists from major cities of Ukraine. The mission is to show t
 he world the power of unity through art. The exhibition will also present 
 new collection of Maryana K. Proceeds from this upcoming exhibition will f
 und the art students in Ukraine affected by the war as well as children ho
 spitalized at the First Medical Union\, an emergency hospital in Lviv.\n\n
 More information\n\n\n\n\n\n
ATTACH;FMTTYPE=image/jpeg:https://www.uccn.org/wp-content/uploads/2023/09/
 exabition-1-jpeg.webp
CATEGORIES:Exhibition
LOCATION:Pellas Gallery\, 114 Newbury St\, Boston\, MA\, 02116\, United Sta
 tes
GEO:42.351125;-71.075796
X-APPLE-STRUCTURED-LOCATION;VALUE=URI;X-ADDRESS=114 Newbury St\, Boston\, M
 A\, 02116\, United States;X-APPLE-RADIUS=100;X-TITLE=Pellas Gallery:geo:42
 .351125,-71.075796
END:VEVENT
BEGIN:VTIMEZONE
TZID:America/New_York
X-LIC-LOCATION:America/New_York
BEGIN:DAYLIGHT
DTSTART:20230312T030000
TZOFFSETFROM:-0500
TZOFFSETTO:-0400
TZNAME:EDT
END:DAYLIGHT
END:VTIMEZONE
END:VCALENDAR