BEGIN:VCALENDAR
VERSION:2.0
PRODID:-//wp-events-plugin.com//7.2.3.1//EN
TZID:America/New_York
X-WR-TIMEZONE:America/New_York
BEGIN:VEVENT
UID:378@uccn.org
DTSTART;TZID=America/New_York:20250329T100000
DTEND;TZID=America/New_York:20250329T170000
DTSTAMP:20250325T191507Z
URL:https://www.uccn.org/event/pysanky-sale-and-vintage-market-by-uaya-bos
 ton/
SUMMARY:Pysanky Sale and Vintage Market by UAYA Boston
DESCRIPTION:Discover unique treasures\, enjoy delicious Ukrainian food\, an
 d shop a wide variety of items—all while supporting aid efforts for Ukra
 ine. Proceeds will go directly toward helping those in need\, with additio
 nal donations welcome.
ATTACH;FMTTYPE=image/jpeg:https://www.uccn.org/wp-content/uploads/2025/02/
 Pysanky-Sale-UAYA-Boston.jpeg
CATEGORIES:Food &amp; Drink,Fundraising,Market
LOCATION:UAYA Boston - CYM Бостон\, 1502 Providence Hwy\, Unit 6\, No
 rwood\, Massachusetts\, 02062\, United States
GEO:42.161207;-71.198832
X-APPLE-STRUCTURED-LOCATION;VALUE=URI;X-ADDRESS=1502 Providence Hwy\, Unit 
 6\, Norwood\, Massachusetts\, 02062\, United States;X-APPLE-RADIUS=100;X-T
 ITLE=UAYA Boston - CYM Бостон:geo:42.161207,-71.198832
END:VEVENT
BEGIN:VTIMEZONE
TZID:America/New_York
X-LIC-LOCATION:America/New_York
BEGIN:DAYLIGHT
DTSTART:20250309T030000
TZOFFSETFROM:-0500
TZOFFSETTO:-0400
TZNAME:EDT
END:DAYLIGHT
END:VTIMEZONE
END:VCALENDAR