BEGIN:VCALENDAR
VERSION:2.0
PRODID:-//wp-events-plugin.com//7.2.3.1//EN
TZID:America/New_York
X-WR-TIMEZONE:America/New_York
BEGIN:VEVENT
UID:180@uccn.org
DTSTART;TZID=America/New_York:20231202T100000
DTEND;TZID=America/New_York:20231202T170000
DTSTAMP:20231124T041231Z
URL:https://www.uccn.org/event/holiday-bazaar/
SUMMARY:Holiday Bazaar
DESCRIPTION:\n\n\n\nWe will be selling pysanky\, embroidery\, crafts\, food
 \, desserts\, and more! All proceeds will benefit humanitarian and relief 
 efforts for Ukraine.\nFacebook event\n\n\n\n\n
ATTACH;FMTTYPE=image/jpeg:https://www.uccn.org/wp-content/uploads/2023/11/
 bazaar-2023-jpeg.webp
CATEGORIES:Festivals &amp; Fairs
LOCATION:UAYA Boston - CYM Бостон\, 1502 Providence Hwy\, Unit 6\, No
 rwood\, Massachusetts\, 02062\, United States
GEO:42.161207;-71.198832
X-APPLE-STRUCTURED-LOCATION;VALUE=URI;X-ADDRESS=1502 Providence Hwy\, Unit 
 6\, Norwood\, Massachusetts\, 02062\, United States;X-APPLE-RADIUS=100;X-T
 ITLE=UAYA Boston - CYM Бостон:geo:42.161207,-71.198832
END:VEVENT
BEGIN:VTIMEZONE
TZID:America/New_York
X-LIC-LOCATION:America/New_York
BEGIN:STANDARD
DTSTART:20231105T010000
TZOFFSETFROM:-0400
TZOFFSETTO:-0500
TZNAME:EST
END:STANDARD
END:VTIMEZONE
END:VCALENDAR