BEGIN:VCALENDAR
VERSION:2.0
PRODID:-//wp-events-plugin.com//7.2.3.1//EN
TZID:America/New_York
X-WR-TIMEZONE:America/New_York
BEGIN:VEVENT
UID:434@uccn.org
DTSTART;TZID=America/New_York:20251011T190000
DTEND;TZID=America/New_York:20251011T190000
DTSTAMP:20251008T143851Z
URL:https://www.uccn.org/event/cossacks-day-from-dnipro-to-the-usa/
SUMMARY:Cossacks’ Day from Dnipro to the USA!
DESCRIPTION:We invite you to an evening where Cossack legends come to life 
 and inspiring hits will be performed! You will witness masterful saber ski
 lls — and even have the chance to try it yourself! This evening will fil
 l you with energy\, connect you to Ukrainian roots\, and give you the true
  spirit of the Cossacks.
ATTACH;FMTTYPE=image/jpeg:https://www.uccn.org/wp-content/uploads/2025/10/
 556964593_742653925421356_1044272870193589485_n.jpg
CATEGORIES:Concert,Fundraising
LOCATION:St. Andrew Ukrainian Orthodox Church of Boston\, 24 Orchardhill Rd
 \, Jamaica Plain\, MA\, 02130\, United States
GEO:42.300166;-71.111109
X-APPLE-STRUCTURED-LOCATION;VALUE=URI;X-ADDRESS=24 Orchardhill Rd\, Jamaica
  Plain\, MA\, 02130\, United States;X-APPLE-RADIUS=100;X-TITLE=St. Andrew 
 Ukrainian Orthodox Church of Boston:geo:42.300166,-71.111109
END:VEVENT
BEGIN:VTIMEZONE
TZID:America/New_York
X-LIC-LOCATION:America/New_York
BEGIN:DAYLIGHT
DTSTART:20250309T030000
TZOFFSETFROM:-0500
TZOFFSETTO:-0400
TZNAME:EDT
END:DAYLIGHT
END:VTIMEZONE
END:VCALENDAR